BEGIN:VCALENDAR
VERSION:2.0
PRODID:-//wp-events-plugin.com//7.2.3.1//EN
TZID:Africa/Cairo
X-WR-TIMEZONE:Africa/Cairo
BEGIN:VEVENT
UID:91@gallerialoiva.fi
DTSTART;TZID=Africa/Cairo:20260401T000000
DTEND;TZID=Africa/Cairo:20260503T000000
DTSTAMP:20260331T142154Z
URL:https://gallerialoiva.fi/tapahtumat/hans-peter-schutt-11-kasky/
SUMMARY:Hans-Peter Schütt - 11. käsky
DESCRIPTION:Hans-Peter Schütt 11. käsky\nGalleria Loiva\n1.4.-3.5.2026\n\
 nTeoksissa esiintyy pettymyksiä ja vastoinkäymisiä kokeneita hahmoja. H
 eistä kumpuaa\nvoimattomuutta\, osattomuutta\, uskon ja toivon puutetta j
 a ulkopuolisuutta.\n\n2023 eräs ministerimme totesi virkaan astumisensa j
 älkeen\, että toisten asemaa ei kuulu\nottaa mitenkään huomioon toiste
 n asioista päätettäessä. Siten hän toisti kansainvälisen\näärioike
 iston ääntelyä\, että empatia on sairautta. SS-joukkojen koulutuksessa
  tähdättiin\npitkälti samaan. Ryhmähenki luotiin sillä\, että ryhmä
 n heikointa syrjittiin ja pahoinpideltiin\nyhdessä. Sanoma on molemmissa 
 se\, että säälimättömyys on in ja vahvi\n\nmman oikeus on\nainoa oike
 us mitä on. Ellet itse selviä\, niin joudatkin tuhoutua.\nKun tällaisii
 n fasisminkatkuisiin ajatuksiin yhdistyy kapitalistisen ideologian kylläs
 tämä\nkäsitys hyvästä elämästä jonkinlaisena yltiöindividualistis
 ena oman edun tavoittelua\ntihkuvana faaraoprojektina\, niin ei liene ihme
 \, että yhteiskunnan mielipiteet ja asenteet\njyrkkenevät ja tunteet kyl
 menevät. 11. käsky\; Älä huoli muista\, koska muilla ei vaan ole\nmit
 ään väliä\, alkaa olla siunaamista vaille valmis.\n\nNäyttely haluaa 
 yhtäältä sanoa\, että tällaiset välinpitämättömyyttä ja piittaam
 attomuutta\nmainostavat ajatukset ovat hajottavaa ja riitaa kylvävää my
 rkkyä ja kusta kaikkien niskaan.\nToisaalta\, että jokainen meistä voi 
 kaatua\, myös ilman omaa syytään\, ja pystyyn\nnouseminen on tuettuna h
 elpompaa.\n\nOllaan siis kilttejä ja kärsivällisiä toisiamme kohtaan. 
 Se ei maksa mitään eikä vaadi kuin\nkuuntelua\, mielikuvitusta sekä hi
 tusen avoimuutta.\n\nNäyttelyyn vapaa pääsy keikkojen ulkopuolella\n\nA
 ukioloajat\n\nKe &amp\; To - 15-21\n\nPe &amp\; La - 15-23
ATTACH;FMTTYPE=image/jpeg:https://gallerialoiva.fi/wp-content/uploads/2026
 /03/Nimeton-malli-12.png
CATEGORIES:Näyttelyt
LOCATION:Galleria Loiva\, Kouvolankatu 3\, Kouvola\, 45100\, Suomi
X-APPLE-STRUCTURED-LOCATION;VALUE=URI;X-ADDRESS=Kouvolankatu 3\, Kouvola\, 
 45100\, Suomi;X-APPLE-RADIUS=100;X-TITLE=Galleria Loiva:geo:0,0
END:VEVENT
BEGIN:VTIMEZONE
TZID:Africa/Cairo
X-LIC-LOCATION:Africa/Cairo
BEGIN:STANDARD
DTSTART:20251030T230000
TZOFFSETFROM:+0300
TZOFFSETTO:+0200
TZNAME:EET
END:STANDARD
BEGIN:DAYLIGHT
DTSTART:20260424T010000
TZOFFSETFROM:+0200
TZOFFSETTO:+0300
TZNAME:EEST
END:DAYLIGHT
END:VTIMEZONE
END:VCALENDAR