BEGIN:VCALENDAR
VERSION:2.0
PRODID:-//wp-events-plugin.com//7.2.3.1//EN
TZID:Africa/Cairo
X-WR-TIMEZONE:Africa/Cairo
BEGIN:VEVENT
UID:68@gallerialoiva.fi
DTSTART;TZID=Africa/Cairo:20260314T180000
DTEND;TZID=Africa/Cairo:20260314T200000
DTSTAMP:20260311T064447Z
URL:https://gallerialoiva.fi/tapahtumat/karhumies-tuomo-mannonen/
SUMMARY:Karhumies | Tuomo Mannonen
DESCRIPTION:Klo 18 Karhumies\n\nKlo 19 Tuomo Mannonen\n\nTuomo Mannonen on 
 kouvolalainen lauluntekijä\, joka tunnetaan Lasten Hautausmaa ja Kivesvet
 o Go Go -yhtyeistä. Mannosen toinen sooloalbumi “Haudatkaa perhoset” 
 ilmestyi tammikuussa 2025 Playgroundin kautta.\n\nKarhumies on pitkän lin
 jan punk-tekijän sooloprojekti Tampereelta. Riimeillään ronskeja asioit
 a kaunistava artisti on varustanut poppinsa göstamaisella kulmalla ja rok
 kinsa juicemaisella vinoudella.\n\nTapahtumaan myynnissä yhdistyksen tuki
 liput vapaavalintaiseen 5-20€ hintaan.
ATTACH;FMTTYPE=image/jpeg:https://gallerialoiva.fi/wp-content/uploads/2026
 /01/Mannonen.jpeg
CATEGORIES:Keikat
LOCATION:Galleria Loiva\, Kouvolankatu 3\, Kouvola\, 45100\, Suomi
X-APPLE-STRUCTURED-LOCATION;VALUE=URI;X-ADDRESS=Kouvolankatu 3\, Kouvola\, 
 45100\, Suomi;X-APPLE-RADIUS=100;X-TITLE=Galleria Loiva:geo:0,0
END:VEVENT
BEGIN:VTIMEZONE
TZID:Africa/Cairo
X-LIC-LOCATION:Africa/Cairo
BEGIN:STANDARD
DTSTART:20251030T230000
TZOFFSETFROM:+0300
TZOFFSETTO:+0200
TZNAME:EET
END:STANDARD
END:VTIMEZONE
END:VCALENDAR