BEGIN:VCALENDAR
VERSION:2.0
PRODID:-//wp-events-plugin.com//7.2.3.1//EN
TZID:Africa/Cairo
X-WR-TIMEZONE:Africa/Cairo
BEGIN:VEVENT
UID:89@gallerialoiva.fi
DTSTART;TZID=Africa/Cairo:20260520T150000
DTEND;TZID=Africa/Cairo:20260520T180000
DTSTAMP:20260311T172854Z
URL:https://gallerialoiva.fi/tapahtumat/sevillan-sukka-neulekahvila-3/
SUMMARY:Sevillan Sukka - Neulekahvila
DESCRIPTION:Tervetulloo Sevillasukan Neule-kerhoon Galleria Loivaan!\n\nNyt
  on iltavirkkujen toiveet otettu huomioon ja neulotaan kellokolmesta tuonn
 e iltaan saakka\; klo 15-18! Tule mukkaan lempipuuhailemmaan nastassa poru
 kassa\, koska tämä ei oo mikkään kirree neulekurssi. Tule koko illaks 
 tai piipaha. Kahvilasta ihanat iltapalat\, nii jaksetaan bail..neuloa! Kok
 o Kerhon ajan otamme vastaan Ukrainaan lahjoitussukkia\, siistii!\n\nGalle
 ria Loiva\, Kouvolan keskusta\, ke 20.5. klo 15-18. Be there.
ATTACH;FMTTYPE=image/jpeg:https://gallerialoiva.fi/wp-content/uploads/2026
 /02/Neulekahvila.jpeg
CATEGORIES:Keikat
LOCATION:Galleria Loiva\, Kouvolankatu 3\, Kouvola\, 45100\, Suomi
X-APPLE-STRUCTURED-LOCATION;VALUE=URI;X-ADDRESS=Kouvolankatu 3\, Kouvola\, 
 45100\, Suomi;X-APPLE-RADIUS=100;X-TITLE=Galleria Loiva:geo:0,0
END:VEVENT
BEGIN:VTIMEZONE
TZID:Africa/Cairo
X-LIC-LOCATION:Africa/Cairo
BEGIN:DAYLIGHT
DTSTART:20260424T010000
TZOFFSETFROM:+0200
TZOFFSETTO:+0300
TZNAME:EEST
END:DAYLIGHT
END:VTIMEZONE
END:VCALENDAR