BEGIN:VCALENDAR
VERSION:2.0
PRODID:-//wp-events-plugin.com//7.2.3.1//EN
TZID:Africa/Cairo
X-WR-TIMEZONE:Africa/Cairo
BEGIN:VEVENT
UID:67@gallerialoiva.fi
DTSTART;TZID=Africa/Cairo:20260313T190000
DTEND;TZID=Africa/Cairo:20260313T210000
DTSTAMP:20260310T114815Z
URL:https://gallerialoiva.fi/tapahtumat/vakuumi-klubi/
SUMMARY:Vakuumi-klubi
DESCRIPTION:Vakuumi-klubi\nVakuumi-klubi on vastakulttuuriyhdistys Vakuumin
  kuratoima klubi\, jonka puitteissa yhdistys tuo Kouvolaan mielenkiintoisi
 a artisteja eri puolilta Suomea ja esittelee paikallisia tekijöitä.\n\nZ
 herbin\n\nZherbin on Helsingissä asuva karjalainen noiseartisti. Hän on 
 soittanut eri kokoonpanoissa\, pyörittänyt pienlevymerkkiä ja järjest
 änyt lukuisia marginaalimusiikin tapahtumia. Viime vuosina Zherbin on kes
 kittynyt kokeellisten elektronisten ja akustisten soittimien rakentamiseen
  ja soittamiseen.\n\nhttps://dmitrizherbin.bandcamp.com/album/ldpe-hdpe\n\
 nAhola &amp\; Silander\n\nKouvolalainen noise-duo Ahola &amp\; Silander on
  työstänyt omalaatuista industrial- ja noiselektroniikkaa jo yli vuosiky
 mmenen. Vuonna 2026 julkaistaan yhtyeeltä useampikin kasetti.\n\nhttps://
 satatuhatta.bandcamp.com/album/s-hk-tuoli\n\nDJ Taika-Jim Earl\n\nTapahtum
 aan myynnissä yhdistyksen tukiliput 5-15€ vapaavalintaiseen hintaan.
ATTACH;FMTTYPE=image/jpeg:https://gallerialoiva.fi/wp-content/uploads/2025
 /10/Vakuumi.jpeg
CATEGORIES:Keikat
LOCATION:Galleria Loiva\, Kouvolankatu 3\, Kouvola\, 45100\, Suomi
X-APPLE-STRUCTURED-LOCATION;VALUE=URI;X-ADDRESS=Kouvolankatu 3\, Kouvola\, 
 45100\, Suomi;X-APPLE-RADIUS=100;X-TITLE=Galleria Loiva:geo:0,0
END:VEVENT
BEGIN:VTIMEZONE
TZID:Africa/Cairo
X-LIC-LOCATION:Africa/Cairo
BEGIN:STANDARD
DTSTART:20251030T230000
TZOFFSETFROM:+0300
TZOFFSETTO:+0200
TZNAME:EET
END:STANDARD
END:VTIMEZONE
END:VCALENDAR