BEGIN:VCALENDAR
VERSION:2.0
PRODID:-//wp-events-plugin.com//7.2.3.1//EN
TZID:Africa/Cairo
X-WR-TIMEZONE:Africa/Cairo
BEGIN:VEVENT
UID:94@gallerialoiva.fi
DTSTART;TZID=Africa/Cairo:20260513T190000
DTEND;TZID=Africa/Cairo:20260513T210000
DTSTAMP:20260415T070929Z
URL:https://gallerialoiva.fi/tapahtumat/ville-viinikainen-duo-karhos-feat-
 matias-stranden/
SUMMARY:Ville Viinikainen & Duo Karhos feat. Matias Strandén
DESCRIPTION:Ville Viinikainen &amp\; Duo Karhos feat. Matias Strandén\nLuv
 assa jatsia ja laulelmaa. Esitämme Viinikaisen sooloalbumin\, Entä jos k
 aikki käy hyvin-materiaalia ja instrumentaali-jatsia.
ATTACH;FMTTYPE=image/jpeg:https://gallerialoiva.fi/wp-content/uploads/2026
 /04/ville-ja-duo-karhos.jpg
CATEGORIES:Keikat
LOCATION:Galleria Loiva\, Kouvolankatu 3\, Kouvola\, 45100\, Suomi
X-APPLE-STRUCTURED-LOCATION;VALUE=URI;X-ADDRESS=Kouvolankatu 3\, Kouvola\, 
 45100\, Suomi;X-APPLE-RADIUS=100;X-TITLE=Galleria Loiva:geo:0,0
END:VEVENT
BEGIN:VTIMEZONE
TZID:Africa/Cairo
X-LIC-LOCATION:Africa/Cairo
BEGIN:DAYLIGHT
DTSTART:20260424T010000
TZOFFSETFROM:+0200
TZOFFSETTO:+0300
TZNAME:EEST
END:DAYLIGHT
END:VTIMEZONE
END:VCALENDAR